{
 "currentVersion": 10.91,
 "serviceDescription": "Testing share-as image service 2016 aerial published in ArcMap ArcCatalog",
 "name": "DBO_ROCHESTER_CITY_2016",
 "description": "Testing share-as image service 2016 aerial published in ArcMap ArcCatalog",
 "extent": {
  "xmin": 578100.9799481928,
  "ymin": 116098.27662970126,
  "xmax": 647311.7299481928,
  "ymax": 232395.77662970126,
  "spatialReference": {
   "wkid": 103761,
   "latestWkid": 103761
  }
 },
 "initialExtent": {
  "xmin": 578100.9799481928,
  "ymin": 116098.27662970126,
  "xmax": 647311.7299481928,
  "ymax": 232395.77662970126,
  "spatialReference": {
   "wkid": 103761,
   "latestWkid": 103761
  }
 },
 "fullExtent": {
  "xmin": 578100.9799481928,
  "ymin": 116098.27662970126,
  "xmax": 647311.7299481928,
  "ymax": 232395.77662970126,
  "spatialReference": {
   "wkid": 103761,
   "latestWkid": 103761
  }
 },
 "pixelSizeX": 0.25,
 "pixelSizeY": 0.25,
 "bandCount": 3,
 "pixelType": "U8",
 "minPixelSize": 0,
 "maxPixelSize": 0,
 "copyrightText": "na",
 "serviceDataType": "esriImageServiceDataTypeRGB",
 "minValues": [],
 "maxValues": [],
 "meanValues": [],
 "stdvValues": [],
 "objectIdField": "",
 "fields": [],
 "capabilities": "Image,Metadata,Mensuration",
 "defaultMosaicMethod": "Center",
 "allowedMosaicMethods": "",
 "sortField": "",
 "sortValue": null,
 "sortAscending": true,
 "mosaicOperator": "First",
 "defaultCompressionQuality": 75,
 "defaultResamplingMethod": "Bilinear",
 "maxImageHeight": 4100,
 "maxImageWidth": 15000,
 "allowRasterFunction": true,
 "rasterFunctionInfos": [
  {
   "name": "None",
   "description": "",
   "help": ""
  }
 ],
 "rasterTypeInfos": [
  {
   "name": "Raster Dataset",
   "description": "Supports all ArcGIS Raster Datasets",
   "help": ""
  }
 ],
 "mensurationCapabilities": "Basic",
 "hasHistograms": false,
 "hasColormap": false,
 "hasRasterAttributeTable": false,
 "minScale": 0,
 "maxScale": 0,
 "exportTilesAllowed": false,
 "hasMultidimensions": false,
 "supportsStatistics": false,
 "supportsAdvancedQueries": false,
 "editFieldsInfo": null,
 "ownershipBasedAccessControlForRasters": null,
 "allowComputeTiePoints": false,
 "useStandardizedQueries": true,
 "advancedQueryCapabilities": {
  "useStandardizedQueries": true,
  "supportsStatistics": false,
  "supportsOrderBy": false,
  "supportsDistinct": false,
  "supportsPagination": false
 },
 "spatialReference": {
  "wkid": 103761,
  "latestWkid": 103761
 }
}
