{
 "currentVersion": 10.91,
 "serviceDescription": "test cache \"share as Image service\" via arcCatalog",
 "name": "DBO_ROCHESTER_CITY_2016_Test_Tiled_Image_Service",
 "description": "test cache \"share as Image service\" via arcCatalog",
 "extent": {
  "xmin": 578100.9799481928,
  "ymin": 116098.27662970126,
  "xmax": 647311.7299481928,
  "ymax": 232395.77662970126,
  "spatialReference": {
   "wkid": 103761,
   "latestWkid": 103761
  }
 },
 "initialExtent": {
  "xmin": 578100.9799481928,
  "ymin": 116098.27662970126,
  "xmax": 647311.7299481928,
  "ymax": 232395.77662970126,
  "spatialReference": {
   "wkid": 103761,
   "latestWkid": 103761
  }
 },
 "fullExtent": {
  "xmin": 578100.9799481928,
  "ymin": 116098.27662970126,
  "xmax": 647311.7299481928,
  "ymax": 232395.77662970126,
  "spatialReference": {
   "wkid": 103761,
   "latestWkid": 103761
  }
 },
 "pixelSizeX": 0.25,
 "pixelSizeY": 0.25,
 "bandCount": 3,
 "pixelType": "U8",
 "minPixelSize": 1.736111111111111,
 "maxPixelSize": 3.472222222222222,
 "copyrightText": "",
 "serviceDataType": "esriImageServiceDataTypeRGB",
 "minValues": [],
 "maxValues": [],
 "meanValues": [],
 "stdvValues": [],
 "objectIdField": "",
 "fields": [],
 "capabilities": "Image,Metadata,Mensuration",
 "defaultMosaicMethod": "Center",
 "allowedMosaicMethods": "",
 "sortField": "",
 "sortValue": null,
 "sortAscending": true,
 "mosaicOperator": "First",
 "defaultCompressionQuality": 75,
 "defaultResamplingMethod": "Bilinear",
 "maxImageHeight": 4100,
 "maxImageWidth": 15000,
 "singleFusedMapCache": true,
 "tileInfo": {
  "rows": 256,
  "cols": 256,
  "dpi": 96,
  "format": "MIXED",
  "compressionQuality": 75,
  "origin": {
   "x": -119405100,
   "y": 141767700
  },
  "spatialReference": {
   "wkid": 103761,
   "latestWkid": 103761
  },
  "lods": [
   {
    "level": 0,
    "resolution": 3.472222222222222,
    "scale": 4000
   },
   {
    "level": 1,
    "resolution": 1.736111111111111,
    "scale": 2000
   }
  ]
 },
 "cacheType": "Map",
 "allowRasterFunction": true,
 "rasterFunctionInfos": [
  {
   "name": "None",
   "description": "",
   "help": ""
  }
 ],
 "rasterTypeInfos": [
  {
   "name": "Raster Dataset",
   "description": "Supports all ArcGIS Raster Datasets",
   "help": ""
  }
 ],
 "mensurationCapabilities": "Basic",
 "hasHistograms": false,
 "hasColormap": false,
 "hasRasterAttributeTable": false,
 "minScale": 4000,
 "maxScale": 2000,
 "minLOD": 0,
 "maxLOD": 1,
 "exportTilesAllowed": false,
 "hasMultidimensions": false,
 "supportsStatistics": false,
 "supportsAdvancedQueries": false,
 "editFieldsInfo": null,
 "ownershipBasedAccessControlForRasters": null,
 "allowComputeTiePoints": false,
 "useStandardizedQueries": true,
 "advancedQueryCapabilities": {
  "useStandardizedQueries": true,
  "supportsStatistics": false,
  "supportsOrderBy": false,
  "supportsDistinct": false,
  "supportsPagination": false
 },
 "spatialReference": {
  "wkid": 103761,
  "latestWkid": 103761
 }
}
